BEGIN:VCALENDAR
VERSION:2.0
PRODID:-//Dimitri Halley Center - ECPv6.15.20//NONSGML v1.0//EN
CALSCALE:GREGORIAN
METHOD:PUBLISH
X-WR-CALNAME:Dimitri Halley Center
X-ORIGINAL-URL:https://dimitrihalleycenter.com
X-WR-CALDESC:Events for Dimitri Halley Center
REFRESH-INTERVAL;VALUE=DURATION:PT1H
X-Robots-Tag:noindex
X-PUBLISHED-TTL:PT1H
BEGIN:VTIMEZONE
TZID:America/Aruba
BEGIN:STANDARD
TZOFFSETFROM:-0400
TZOFFSETTO:-0400
TZNAME:AST
DTSTART:20250101T000000
END:STANDARD
END:VTIMEZONE
BEGIN:VEVENT
DTSTART;TZID=America/Aruba:20260425T140000
DTEND;TZID=America/Aruba:20260425T160000
DTSTAMP:20260423T031632
CREATED:20260416T190201Z
LAST-MODIFIED:20260416T190753Z
UID:4948-1777125600-1777132800@dimitrihalleycenter.com
SUMMARY:Join the Webinar Saturday Bubbles part 2: WW3 is a War with the Shadow
DESCRIPTION:Mark your agenda for a new webinar Saturday April 25th\,  a continuation of Bubbles part II; Trapped in Shadow Bubbles \nWW3 is a War with the Shadow\nWhy do you think you keep pushing against it? It’s because\, deep down\, you don’t truly want it? You are locked in a conflict with yourself. People have become trapped in shadow bubbles. The World is Enveloped in Shadow Bubbles … \nThe U.S. is Negotiating with Its Shadow\nAt both individual and collective levels\, we find ourselves collectively imprisoned in shadow bubbles. Trump has confined the U.S. and its allies within his own shadow bubble. We are so polarized that one side’s shadow becomes completely opposite\, leading to projection that manifests as conflict with the other. Remember\, this represents the ultimate battle—a war waged against our own shadow on every level.\nThis situation is dire\, as one side is addressing its own shadow\, unconsciously projected onto the opposing side. If the other party lacks a solid understanding of its own shadow\, they too will be drawn into this dynamic\, resulting in a full virtual shadow war.\nThis is incredibly hazardous because it indicates that neither side can truly hear the other anymore; they are trapped within themselves and their own shadow echoes. At this stage\, individuals\, nations\, and the global community become engulfed in a desire to annihilate the opposing side. Both factions remain caged in their respective shadow bubbles\, drawing each other deeper into their shadows and enveloping the entire world in these shadow bubbles. This represents the inevitable conclusion of controlled opposition\, leading to a complete division of timelines. \nREGISTRATION:\n* Existing subscribers can register through our newsletter we have sent out\,  make sure to check on your spam/junk box too! Early registration Discount valid till Sunday April 19th\n* Call +297 583 0114\n* Call or WhatsApp: +297 592 4305\n* Email: info@dimitrihalleycenter.com
URL:https://dimitrihalleycenter.com/event/join-the-webinar-saturday-bubbles-part-2-ww3-is-a-war-with-the-shadow/
ATTACH;FMTTYPE=image/png:https://dimitrihalleycenter.com/wp-content/uploads/2026/04/260416-webpage-WW3-Video-1920-Facebook-Ad.png
ORGANIZER;CN="Dimitri Halley%2C psychologist":MAILTO:info@dimitrihalleycenter.com
END:VEVENT
END:VCALENDAR