BEGIN:VCALENDAR
VERSION:2.0
PRODID:-//Dimitri Halley Center - ECPv6.15.20//NONSGML v1.0//EN
CALSCALE:GREGORIAN
METHOD:PUBLISH
X-ORIGINAL-URL:https://dimitrihalleycenter.com
X-WR-CALDESC:Events for Dimitri Halley Center
REFRESH-INTERVAL;VALUE=DURATION:PT1H
X-Robots-Tag:noindex
X-PUBLISHED-TTL:PT1H
BEGIN:VTIMEZONE
TZID:America/Aruba
BEGIN:STANDARD
TZOFFSETFROM:-0400
TZOFFSETTO:-0400
TZNAME:AST
DTSTART:20210101T000000
END:STANDARD
END:VTIMEZONE
BEGIN:VTIMEZONE
TZID:Asia/Dubai
BEGIN:STANDARD
TZOFFSETFROM:+0400
TZOFFSETTO:+0400
TZNAME:+04
DTSTART:20210101T000000
END:STANDARD
END:VTIMEZONE
BEGIN:VTIMEZONE
TZID:America/Halifax
BEGIN:DAYLIGHT
TZOFFSETFROM:-0400
TZOFFSETTO:-0300
TZNAME:ADT
DTSTART:20200308T060000
END:DAYLIGHT
BEGIN:STANDARD
TZOFFSETFROM:-0300
TZOFFSETTO:-0400
TZNAME:AST
DTSTART:20201101T050000
END:STANDARD
BEGIN:DAYLIGHT
TZOFFSETFROM:-0400
TZOFFSETTO:-0300
TZNAME:ADT
DTSTART:20210314T060000
END:DAYLIGHT
BEGIN:STANDARD
TZOFFSETFROM:-0300
TZOFFSETTO:-0400
TZNAME:AST
DTSTART:20211107T050000
END:STANDARD
BEGIN:DAYLIGHT
TZOFFSETFROM:-0400
TZOFFSETTO:-0300
TZNAME:ADT
DTSTART:20220313T060000
END:DAYLIGHT
BEGIN:STANDARD
TZOFFSETFROM:-0300
TZOFFSETTO:-0400
TZNAME:AST
DTSTART:20221106T050000
END:STANDARD
END:VTIMEZONE
BEGIN:VEVENT
DTSTART;TZID=America/Aruba:20251220T140000
DTEND;TZID=America/Aruba:20251220T160000
DTSTAMP:20260423T091918
CREATED:20251212T193301Z
LAST-MODIFIED:20251212T203431Z
UID:4863-1766239200-1766246400@dimitrihalleycenter.com
SUMMARY:Join 2025 Closing Webinar: The Off Planet War
DESCRIPTION:Turning the entire Planet Upside Down\nA global rift is emerging\, leading to widespread split into irreconcilable conflict that is driving people to an extreme Xscape state\, causing a mass exodus from their bodies into a tombstone state. This collective out-of-body event we are witnessing is turning our entire world upside down. Collective dreams indicate how global war events are designed to open major collective portals leading to the intrusion of a dimension akin to the “upside down” featured in Stranger Things. What is being revealed is the true nature of this global conflict as an off-planet war attempting to push the entire planet out. In the webinar we uncover the true purpose behind these events. \n\n\nNow more than ever\, it is vital to understand what is really going on behind the veil and how to avoid being drawn into this chaos\, which was referred to as the two raptures in a previous webinar. \n\n\nThe upcoming webinar will be essential for navigating this global situation. \nREGISTRATION:\n* Existing subscribers can register through our latest newsletter.\nSubscribers\, make sure to keep an eye on your spam/junk box too!\n* Call +297 583 0114\n* Send a WhatsApp; +297 592 4305\n* Email: info@dimitrihalleycenter.com \n\nReservation Confirmed upon Payment\nEarly Bird: 42 USD ends Tuesday December 16th\nNormal Price: 50 USD
URL:https://dimitrihalleycenter.com/event/join-2025-closing-webinar-the-off-planet-war/
CATEGORIES:Q & A,Shadow Work
ATTACH;FMTTYPE=image/png:https://dimitrihalleycenter.com/wp-content/uploads/2025/12/251220-WEBINAR-Cover-2.png
ORGANIZER;CN="Dimitri Halley%2C psychologist":MAILTO:info@dimitrihalleycenter.com
END:VEVENT
BEGIN:VEVENT
DTSTART;TZID=America/Aruba:20250329T140000
DTEND;TZID=America/Aruba:20250329T160000
DTSTAMP:20260423T091918
CREATED:20250321T233435Z
LAST-MODIFIED:20250402T152105Z
UID:4783-1743256800-1743264000@dimitrihalleycenter.com
SUMMARY:Join the Webinar Three Days of Darkness
DESCRIPTION:In our webinars\, we keep you updated on the big stages we enter. Carl Jung mapped the cycle of descent and ascent of the Self (Anthropos) out of wholeness into what is called matter or 3d in order to reascend back to wholeness. Beyond the stage of highest tension\, characterized by rejection of the shadow\, we witness a split/bifurcation where one side goes into spiritual darkness\, and the other side ascents to spiritual light. Basically we speak of the dark world and the light world coming to be onto 3-D. This is what we are witnessing inside and outside of dreams as ufo’s and such entering through the curtain. The side which fully disconnects from shadow goes into this darkness also associated with the blackhole in terms of the collective unconscious and thus what the mind goes through. \nWe will demonstrate where we’ve ended up in the cycle in terms of the psyche\, through movies and collective dreams. It will become evident as to what we are going through and how to navigate it and ultimately get out of this psycho-spiritual darkness. This stage goes paired with a big shift in the collective mind and individual mind. While most are entering the 3 days of darkness\, there is still a thin thread held to the other side\, to the Light of the Self. The big shift is the installment of a whole other filter determining how we experience reality. This filter takes us out of 3D experience (where shadow keeps a certain balance) and into a multidimensional experience\, but disconnected from the Light of the Self. It’ll become virtually impossible to engage in effective relations on this timeline\, because the relation to the shadow has been severed; which we are witnessing as entering a stage of great insanity and Madness.  Hence continuing global war at all levels. \nWebinar Saturday March 29th \nREGISTRATION:\n* Existing subscribers can register through our latest newsletter.\nSubscribers\, make sure to keep an eye on your spam/junk box too!\n* Call +297 583 0114\n* Send a WhatsApp; +297 592 4305\n* Email: info@dimitrihalleycenter.com \n\nReservation confirmed upon payment\nEarly Bird: 42 USD ends Thursday March 27th !\nNormal Price: 50 USD\n\n*Timezones* \nAruba starts 2 pm to 4 pm\nAmsterdam starts 7 pm to 9 pm\nUK starts 6 pm to 8 pm\nNew Zealand starts 7 am to 9 am [Sunday ] \nUSA Eastern Time starts 2 pm to 4 pm\nUSA Central Time starts 1 to 3 pm\nUSA Pacific Time starts 11 am to 1 pm
URL:https://dimitrihalleycenter.com/event/join-the-webinar-three-days-of-darkness/
LOCATION:Zoom
CATEGORIES:Q & A
ATTACH;FMTTYPE=image/png:https://dimitrihalleycenter.com/wp-content/uploads/2025/04/250329-WEBINAR-Facebook-Post-Group-Cover-1640-x-856-px.png
ORGANIZER;CN="Dimitri Halley%2C psychologist":MAILTO:info@dimitrihalleycenter.com
END:VEVENT
BEGIN:VEVENT
DTSTART;TZID=America/Aruba:20241102T140000
DTEND;TZID=America/Aruba:20241102T160000
DTSTAMP:20260423T091918
CREATED:20241023T213752Z
LAST-MODIFIED:20241118T162011Z
UID:4617-1730556000-1730563200@dimitrihalleycenter.com
SUMMARY:Join The Webinar: The Rising of Dark City
DESCRIPTION:After some time\, we’re excited to finally bring to you the next installment. This webinar will be unveiling the next level of what will be happening to people internally from the inside in this downward spiral of the shadowless timeline. The webinar will compress the latest movies featuring Joker 2\, Smile and Venom (Wild Robot) which are appearing in the dreams of people around the world as global shared dreams. People are being taken into the dark city through their dreams (abduction) or we can say the dark city is rising onto this timeline . \nThe same way in the right timeline the city of light is descending\,  the dark city is also manifesting in people globally. The focus will be showing how these dreams and mental states lead to abduction into the Dark City-Gotham city-Sin City-The Capitol \nJoin our “Webinar Saturday” November 2nd  and discover the fascinating narrative between dreams\, reality\, and the mysterious dark city.\n \nhttps://dimitrihalleycenter.com/wp-content/uploads/2024/10/241023-Webinar-Dark-City.mp4\nReservation confirmed upon payment\nPrice 50 USD\nTimezones:\nFrom 2 pm to 4 pm [Aruba]\nFrom 7 pm to 9 pm [Amsterdam]\nFrom 6 pm to 8 pm [UK]\nFrom 7 am to 9 am [Sunday New Zealand]\nFrom 2 pm to 4 pm Eastern Time [USA]\nFrom 1 to 3 pm Central Time [USA]\nFrom 11 AM to 1 pm Pacific Time [USA] \n#shadowwork  #webinar #personalgrowth #journeytoself #self #selfawareness #abduction \nHave questions? Register here below . Feel free to contact us\nNote: Existing subscribers can register through our newsletter \n\nVisit our Contact Page on our website\nEmail at info@dimitrihalleycenter.com 📧\nOr click here to call 5830114 📞\nClick here to WhatsApp +297 5924305\n\n\n\n\n\n\nNew Customer Registration Form\n* indicates required\nEmail: *\nFull name: \n\nLocation Aruba or Not Aruba  \n\nAruba\nNot Aruba\n\nThis information concerns payment options \n\n\n\n\n\n/* real people should not fill this in and expect good things – do not remove this or risk form bot signups */\n\n\n\n \n \n\n\n\n\n\n \n\n  \n 
URL:https://dimitrihalleycenter.com/event/join-the-webinar-the-rising-of-dark-city/
CATEGORIES:Q & A,Shadow Work
ATTACH;FMTTYPE=image/png:https://dimitrihalleycenter.com/wp-content/uploads/2024/10/241023-WEBINAR-RISING-DARK-CITY-1920-x-540-px.png
ORGANIZER;CN="Dimitri Halley%2C psychologist":MAILTO:info@dimitrihalleycenter.com
END:VEVENT
BEGIN:VEVENT
DTSTART;TZID=America/Aruba:20231216T140000
DTEND;TZID=America/Aruba:20231216T160000
DTSTAMP:20260423T091918
CREATED:20231206T212516Z
LAST-MODIFIED:20231213T170501Z
UID:4562-1702735200-1702742400@dimitrihalleycenter.com
SUMMARY:Register here Codependency Webinar
DESCRIPTION:First Name\n    \n \n    Last Name\n    \n \n\n	Email address: \n	\n \n\n    Country\n    \n         Aruba\n    \n    \n         Other\n    \n \n\n\n\n	\n Leave this field empty if you're human: \n\nHaving trouble? Try to register with this newsletter link below\nhttps://mailchi.mp/dimitrihalleycenter/join-the-codependency-webinar \n\nJoin us for this transformative webinar Codependency and Q&A on Saturday December 16th. We remain emotional hostages in codependency relations in several areas of our life\, which forms the very inside of the prison grid/Matrix. In the sense of it locking down the whole system and network around us. All conflicts\, gaslighting\, abuse and Stockholm syndrome reside in these symbiotic codependency relations which never end. \nThe Webinar will show from a very technical standpoint how to step out of codependency\, which takes us to the space on the other timeline of emotional freedom. The webinar will uncover how to get out of these toxic relations inside and out. And we’ll create right flow and healing in relations.\nWe will show what creates the psychological codependencies and how to truly get out of them and the prison grid from a depth psychological shadow abased perspective. \nThe webinar will lead to Emotional Freedom from Abduction in Codependency. \nWrite it down and secure your spot for the last webinar of 2023\,  Saturday\, December 16th! \nReservation confirmed upon payment \nPrice 50 USD\nTimezones:\nFrom 2 PM to 4 PM [Aruba]\nFrom 7 am to 9 am [New Zealand]\nFrom 1 pm to 3 pm ET [USA]\nFrom 12 to 2 pm CT [USA]\nFrom 10 to 12 pm PT [USA] \n#shadowwork  #webinar #personalgrowth #journeytoself #self #selfawareness #Freedom #emotional #abduction \nHave questions? Feel free to contact us \n\nVisit our Contact Page on our website\nEmail at info@dimitrihalleycenter.com 📧\nOr click here to call 5830114 📞\nClick here to WhatsApp +297 5924305\n\n  \n 
URL:https://dimitrihalleycenter.com/event/join-the-codependency-webinar/
LOCATION:Zoom
CATEGORIES:Couples counseling,Q & A,Shadow Work
ATTACH;FMTTYPE=image/gif:https://dimitrihalleycenter.com/wp-content/uploads/2023/12/231206-gif.gif
ORGANIZER;CN="Dimitri Halley%2C psychologist":MAILTO:info@dimitrihalleycenter.com
END:VEVENT
BEGIN:VEVENT
DTSTART;TZID=America/Aruba:20230722T150000
DTEND;TZID=America/Aruba:20230722T170000
DTSTAMP:20260423T091918
CREATED:20230718T022457Z
LAST-MODIFIED:20230718T022457Z
UID:4394-1690038000-1690045200@dimitrihalleycenter.com
SUMMARY:Join the Webinar: 3D is Gone!
DESCRIPTION:Join the new 2 hour-long Webinar and Q&A this Saturday July 22nd from 3 PM to 5 PM ET: 3D is gone ! \nIn Riding the Uroboric spiral we have now entered 2D which is a psychological world without shadow.  We will show how what is unfolding outside is the externalizing of this inner reality where we are blasted off into into the digital mental space\, Barbie\, beyond the real… \nSaturday\, July 22nd from 3 PM to 5 PM ET\nReservation is confirmed after payment is received\nPrice 40 USD \n#timeline #Barbie #2D #3D #Oppenheimer \n\nScroll down below to fill out the registration form or check your inbox to read our newsletter for our upcoming webinar on Saturday\, July 22nd at 3 PM ET. After you have submitted your registration\, we will send you an confirmation and invoice by email\, which you should receive within 24 hours. If you do not receive this email\, please check your spam or junk folder.\nFollow the easy payments instructions so we can quickly and easily process your payment.\nAfter your payment is received\, we will confirm your reservation.\nOn the day of the webinar you will receive the email that will include access link to the webinar.\n\nFor questions reach out to us and click any of these 4 options below: \n\nVisit our Contact Page on our website\nEmail at info@dimitrihalleycenter.com 📧\nOr click here to call 5830114 📞\nClick here to WhatsApp +297 5924305\n📌 Important: Newsletter subscribers please check your email. or go to the the newsletter link below instead:\n► Click here Newsletter 3D is Gone! ◀︎\n\n\n\n    First Name\n    \n \n    Last Name\n    \n \n\n	Email address: \n	\n \n\n    Country\n    \n         Aruba\n    \n    \n         Other\n    \n \n\n\n\n	\n Leave this field empty if you're human: \n 
URL:https://dimitrihalleycenter.com/event/join-the-webinar-3d-is-gone/
LOCATION:Zoom
CATEGORIES:Q & A
ATTACH;FMTTYPE=image/jpeg:https://dimitrihalleycenter.com/wp-content/uploads/2023/07/3D-is-Gone-850.jpg
ORGANIZER;CN="Dimitri Halley%2C psychologist":MAILTO:info@dimitrihalleycenter.com
END:VEVENT
BEGIN:VEVENT
DTSTART;TZID=America/Aruba:20230513T150000
DTEND;TZID=America/Aruba:20230513T170000
DTSTAMP:20260423T091918
CREATED:20230503T014819Z
LAST-MODIFIED:20230509T204659Z
UID:4283-1683990000-1683997200@dimitrihalleycenter.com
SUMMARY:Join the Webinar Gaslighting
DESCRIPTION:An advanced class on how to protect your Mind:\nAdvanced Gaslighting is how our Mind gets abducted and emotions manipulated.\nThe mental security problem extends into your dreams and unconscious. The same way companies are now rushing to protect against cyberattacks and hacking\, as individuals also need personal mental protection. Therefore this crucial part is Mental Security. The upcoming webinar/masterclass will go into great depth on this topic. So Security and Defense as part of your Mental Security. We shifted the grid to where the deeper levels of gaslighting have become the New Normal in our relationships and within ourselves\, so therefore The Next Step is Mental security \n\nScroll down below to find the registration form for our upcoming webinar on Saturday\, May 13th at 2 PM ET. After you have submitted your registration\, we will send you an confirmation and invoice by email\, which you should receive within 24 hours. If you do not receive this email\, please check your spam or junk folder.\nOnce we have received your payment\, we will send you a confirmation email.\nOn the day of the webinar you will receive the email that will include access to the webinar.\n\nAdditional information about the webinar will be on our Facebook Webinar Page\, so make sure to follow the page.\nWe would appreciate it if you could help spread the word about the event by sharing it with others 🙌🏼 \nLastly\, check out the offer below ↓ \nDay: Saturday\, May 13th 2023\nTime: 3 PM Aruba – 3 PM ET [US West Coast] – 12 PM PT [US West Coast]\nTime: 7 AM NZLD – 8 PM GMT – 9 PM NED\nNormal price: 40 USD\nSpecial: 20% Early bird discount sign up valid till Sunday\, May 7th [ended]\nFor questions feel free to click any of these 3 options: \n\nEmail at info@dimitrihalleycenter.com 📧\nOr click here to call 5830114 📞\nClick here send us your message on WhatsApp\n\nThe Registration Form is Next …\n\n\n    First Name\n    \n \n    Last Name\n    \n \n\n	Email address: \n	\n \n\n    Country\n    \n         Aruba\n    \n    \n         Other\n    \n \n\n\n\n	\n Leave this field empty if you're human: \n📌 Do you have problems signing up?\nYou might be subscribed to our newsletter already\, please go to the next link below instead:\n►  https://mailchi.mp/dimitrihalleycenter/join-the-webinar-gaslighting-nsvshrpfvt ◀︎\nWe look forward to seeing you at the webinar!\n 
URL:https://dimitrihalleycenter.com/event/join-the-webinar-gaslighting/
LOCATION:Zoom
CATEGORIES:Q & A,Shadow Work
ATTACH;FMTTYPE=image/png:https://dimitrihalleycenter.com/wp-content/uploads/2023/05/230509-Facebook-Event-600x413-1.png
ORGANIZER;CN="Dimitri Halley%2C psychologist":MAILTO:info@dimitrihalleycenter.com
END:VEVENT
BEGIN:VEVENT
DTSTART;TZID=Asia/Dubai:20221015T150000
DTEND;TZID=Asia/Dubai:20221015T170000
DTSTAMP:20260423T091918
CREATED:20221007T002455Z
LAST-MODIFIED:20221007T004101Z
UID:4181-1665846000-1665853200@dimitrihalleycenter.com
SUMMARY:Endgame
DESCRIPTION:The Endgame is the definitive data and breaking news on how the splitting of timelines (at the end of Maya calendar) reach a point where two versions of reality which don’t touch anymore exist at the same time\, and how the upload to either is happening. The upload to a reality where all own will and self is lost in dissolution: total lockdown or the other you will be able to create exactly what you’re intending to manifest in a grid of right side up quantum entanglement.  \nThe data is reaching a level of singularity beyond plausible deniability\, corroborating evidence from various non locally independent sources who tracking it in their own fields. \nThe data we have gathered will help you make sense of what’s going on right now\, why it may have happened\, details on the process of changing timelines and a plan to navigate the right  timeline. \nYou can register online in the link provided in this post\, or visit my websit or my other social media network. Send your bullet points & questions in advance and it will be incorporated in this live event. \nRegister here to attend a live webinar with Dimitri Halley \n\nBe aware you will receive an invoice within 24 hours.\nIf you did not receive anything\, please also check your spam box.\nYour registration is confirmed after payment of the invoice.\nWe will send continuously updates on the process via email and Facebook Webinar Group \nFeel free to send your questions to info@dimitrihalleycenter.com
URL:https://dimitrihalleycenter.com/event/endgame/
LOCATION:Zoom
CATEGORIES:Q & A
ATTACH;FMTTYPE=image/png:https://dimitrihalleycenter.com/wp-content/uploads/2022/10/221006-Endgame-small.png
ORGANIZER;CN="Dimitri Halley%2C psychologist":MAILTO:info@dimitrihalleycenter.com
END:VEVENT
BEGIN:VEVENT
DTSTART;TZID=America/Aruba:20220212T140000
DTEND;TZID=America/Aruba:20220212T160000
DTSTAMP:20260423T091918
CREATED:20220125T233006Z
LAST-MODIFIED:20220125T235318Z
UID:3909-1644674400-1644681600@dimitrihalleycenter.com
SUMMARY:Triggers & Projections
DESCRIPTION:The secret value and importance of triggers\nIn bringing up the shadow we haven’t processed and end up projecting and manifesting with others \nLessons from Triggers \nLearn the introduction in the practice of Projection Catching
URL:https://dimitrihalleycenter.com/event/triggers-projections/
LOCATION:Zoom
CATEGORIES:Q & A,Shadow Work
ATTACH;FMTTYPE=image/png:https://dimitrihalleycenter.com/wp-content/uploads/2022/01/Facebook-Page-Cover-1640x664-arrow-.png
ORGANIZER;CN="Dimitri Halley%2C psychologist":MAILTO:info@dimitrihalleycenter.com
END:VEVENT
BEGIN:VEVENT
DTSTART;TZID=America/Aruba:20220122T140000
DTEND;TZID=America/Aruba:20220122T160000
DTSTAMP:20260423T091918
CREATED:20211220T201130Z
LAST-MODIFIED:20220109T172030Z
UID:3887-1642860000-1642867200@dimitrihalleycenter.com
SUMMARY:Mind Body Connection - Shadow work
DESCRIPTION:Continue below to submit your registration!\nMind/Body\, Immune System and the Shadow/Unconscious  \nContrary to modern science the mind and body are inextricably intertwined and not in the neuroreducrtionistic sense but in the sense of the shadow and the unconscious of the psyche. The Energetic Mind Body Map will be presented as a primer which will avail of an inner standing toward a deeper seeing and application of how the shadow underlies our physical conditions and symptoms of dis-ease and how our unconscious is from the inside our immune system and how the different layers of shadow work strengthens our immune system against the intrusion of viruses from the collective both psychically and somatically cause they are one. \n\nVery important: Check your spam box if you did not get an automatic email in your inbox. \nBe aware you will receive an invoice within 24 hours.\nIf you did not receive anything\, please also check your spam box.\nYour registration is confirmed after payment of the invoice.\nWe will send continuously updates on the process.\nYou are welcome to send your questions to info@dimitrihalleycenter.com
URL:https://dimitrihalleycenter.com/event/mind-body-connection-shadow-work/
LOCATION:Zoom
CATEGORIES:Mind Body Connection,Q & A,Shadow Work
ATTACH;FMTTYPE=image/png:https://dimitrihalleycenter.com/wp-content/uploads/2021/12/220109-Facebook-cover.png
ORGANIZER;CN="Dimitri Halley%2C psychologist":MAILTO:info@dimitrihalleycenter.com
END:VEVENT
BEGIN:VEVENT
DTSTART;TZID=America/Halifax:20211211T140000
DTEND;TZID=America/Halifax:20211211T160000
DTSTAMP:20260423T091918
CREATED:20211125T195324Z
LAST-MODIFIED:20211130T175006Z
UID:3843-1639231200-1639238400@dimitrihalleycenter.com
SUMMARY:'Shadow in Relationships' Webinar
DESCRIPTION:Many have asked for this webinar\, so here goes Dimitri Halley on Shadow in Relationships:\nBe part of premiering state-of-the-art innerstanding of shadow work. The topic is relationships: How to better consider so-called destructive relationships and people. The effects of unhealthy relationships on our body’s well-being; most of our somatic complaints and symptoms also hold these toxic shadow projection-based relationships. \nWhat can you expect?\n\nThe purpose of the webinar will be to work via shadow work to reach true peace and solace in our stance and perspective of others in relationships. At the deepest point of shadow\, self-work\, find the right side up\, deeper (quantum) synergy\, and healing synchronistic flow within relations.\nAudience: Couples\, and general public\nInteractive webinar: Q & A\n\nImportant Notes:\n✓ Must  submit the Registration form below to Enter the webinar or email us.\nIf you are already a subscriber to our newsletter\, you don’t need to do fill out the form below again. Check for our newsletter in your mailbox.\n✓ After registration you will receive an automatic confirmation mail in your inbox.\n✓ Check your spam box\, if you did not get any notice in your inbox.\n✓  You’ll receive an invoice within 24 hrs. Fee Registrants: 35.00 USD.\n✓ No Video Recording will be made available afterwards.\n✓ If you cannot not attend the webinar & you have canceled 12 hours before the start of the webinar\, you can get a refund minus administrative charges.\n✓ Deadline Registration & Payment will be December 10th.\n✓ For questions feel free to email us at info@dimitrihalleycenter.com or whatsapp at 297 592 4305.\n \n\n\n\n\nRegister for Webinar Shadow in Relationships:\n\nIf you are a subscriber already\, please check your inbox for the latest invitation \n\n* indicates required\nFirst name: *\n\n\nLast name: *\n\n\nEmail: *\n\n\nYour location (necessary in case of invoicing) *\n\nArubaOther country
URL:https://dimitrihalleycenter.com/event/shadow-in-relationships-webinar/
LOCATION:Zoom
CATEGORIES:Couples counseling,Q & A,Shadow Work
ATTACH;FMTTYPE=image/png:https://dimitrihalleycenter.com/wp-content/uploads/2021/11/3.png
ORGANIZER;CN="Dimitri Halley%2C psychologist":MAILTO:info@dimitrihalleycenter.com
END:VEVENT
END:VCALENDAR