BEGIN:VCALENDAR
VERSION:2.0
PRODID:-//Dimitri Halley Center - ECPv6.15.20//NONSGML v1.0//EN
CALSCALE:GREGORIAN
METHOD:PUBLISH
X-ORIGINAL-URL:https://dimitrihalleycenter.com
X-WR-CALDESC:Events for Dimitri Halley Center
REFRESH-INTERVAL;VALUE=DURATION:PT1H
X-Robots-Tag:noindex
X-PUBLISHED-TTL:PT1H
BEGIN:VTIMEZONE
TZID:America/Aruba
BEGIN:STANDARD
TZOFFSETFROM:-0400
TZOFFSETTO:-0400
TZNAME:AST
DTSTART:20240101T000000
END:STANDARD
END:VTIMEZONE
BEGIN:VEVENT
DTSTART;TZID=America/Aruba:20250712T140000
DTEND;TZID=America/Aruba:20250712T160000
DTSTAMP:20260424T042627
CREATED:20250626T011040Z
LAST-MODIFIED:20250707T213431Z
UID:4815-1752328800-1752336000@dimitrihalleycenter.com
SUMMARY:Join the Golden City Webinar
DESCRIPTION:Exploring the Golden Frequency:\nDeep Techniques for Transformation into the Golden Frequency\n\nFor the first time\, we will concentrate on how to access and unlock that deeper Golden frequency/city which exists on the other end of the spiral from the dark city. We will delve into advanced techniques and teachings that help you achieve and sustain the golden mental state associated with the right quantum spin. This state elevates us into a higher frequency and\, at a certain point\, helps us remain anchored there. \nThis is the moment when we can clearly observe two cities or sides fully diverging. We will demonstrate how to download a piece of heaven both within and around you. This all will be brought on the backdrop of shared collective dreams and global synchronicities. The event will itself be a taste of this golden feeling. \n\nWebinar Saturday July 12th \nREGISTRATION:\n* Existing subscribers can register through our latest newsletter.\nSubscribers\, make sure to keep an eye on your spam/junk box too! \n* Call locally in Aruba  +297 583 0114\n* Send a WhatsApp; +297 592 4305\n* Email: info@dimitrihalleycenter.com \n\nReservation confirmed upon payment\nPrice: 50 USD\n\n*Timezones* \nAruba starts 2 pm to 4 pm\nAmsterdam starts 8 pm to 10 pm\nUK starts 7 pm to 9 pm\nNew Zealand starts 6 am to 8 am [Sunday ] \nUSA Eastern Time starts 2 pm to 4 pm\nUSA Central Time starts 1 to 3 pm\nUSA Mountain Time starts 12 pm to 2 pm\nUSA Pacific Time starts 11 am to 1 pm
URL:https://dimitrihalleycenter.com/event/join-the-golden-city-webinar/
CATEGORIES:Shadow Work
ORGANIZER;CN="Dimitri Halley%2C psychologist":MAILTO:info@dimitrihalleycenter.com
END:VEVENT
END:VCALENDAR