BEGIN:VCALENDAR
VERSION:2.0
PRODID:-//Dimitri Halley Center - ECPv6.15.20//NONSGML v1.0//EN
CALSCALE:GREGORIAN
METHOD:PUBLISH
X-ORIGINAL-URL:https://dimitrihalleycenter.com
X-WR-CALDESC:Events for Dimitri Halley Center
REFRESH-INTERVAL;VALUE=DURATION:PT1H
X-Robots-Tag:noindex
X-PUBLISHED-TTL:PT1H
BEGIN:VTIMEZONE
TZID:UTC
BEGIN:STANDARD
TZOFFSETFROM:+0000
TZOFFSETTO:+0000
TZNAME:UTC
DTSTART:20210101T000000
END:STANDARD
END:VTIMEZONE
BEGIN:VEVENT
DTSTART;TZID=UTC:20220611T140000
DTEND;TZID=UTC:20220611T160000
DTSTAMP:20260426T003823
CREATED:20220606T211739Z
LAST-MODIFIED:20220613T191224Z
UID:4103-1654956000-1654963200@dimitrihalleycenter.com
SUMMARY:A Singularity Event: Flagging Invasion from the Upside Down
DESCRIPTION:Must register below or via email:\n🔥 𝐢𝐧𝐟𝐨@𝐝𝐢𝐦𝐢𝐭𝐫𝐢𝐡𝐚𝐥𝐥𝐞𝐲𝐜𝐞𝐧𝐭𝐞𝐫.𝐜𝐨𝐦\n🔥𝐂𝐨𝐧𝐭𝐞𝐧𝐭: \nWebinar Saturday: As we’ve previously stated in online posts and you tube videos\, the movies which are correlating with science\, and everything else\, are showing us what is really happening. And that is that the Upside Down dimension is bleeding through into our own. This is the same as what the UFO abduction is\, here you are taken into this upside down world and a vacant body is left. Even if temporary some of the real person reappears and we have shown you that the spraying of heavy metals is to facilitate the landing of the upside down cause organic nature shields from this and that this is why the war on everything natural and organic and the last vestiges of people and culture who maintain a natural environment and life. \nBut foremostly we see now what the nature is of these UFO’s coming in in the form of this upside down demonic world. As the title song of Kate Bush says in the latest 4th season of ‘Stranger Things’ when the abomination comes to be ‘Running Up That Hill’.\nIt’s ‘hell’ that is upon us and without real shielding via shadowwork you are taken in your sleep. \nIt is upon us and has been disclosed… here. \nNext webinar in this coming very soon stay tuned \n#movies #sleep #AI #Disclosure #UFO #shared dreaming\n#analytical #psychology #dreamwork #shadowwork \n\nVery important: Check your spam box\nif you did not get an automatic email in your inbox. \nBe aware you will receive an invoice within 24 hours.\nIf you did not receive anything\, please check your spam box.\nYour registration is confirmed after payment of the invoice.\nWe will send continuously updates on the process. \nThe Zoom link will be sent an hour before the start of the webinar\, and you are able to enter the webinar 15 to 10 min in advance. \nInternational clients are able to safely pay with credit card through secure payment system\, CX-Pay\, which will be included in your invoice. \nYou are welcome to send your questions you may have to info@dimitrihalleycenter.com
URL:https://dimitrihalleycenter.com/event/a-singularity-event-all-areas-flagging-invasion-from-the-upside-down/
ATTACH;FMTTYPE=image/png:https://dimitrihalleycenter.com/wp-content/uploads/2022/06/Singularity-event.png
ORGANIZER;CN="Dimitri Halley%2C psychologist":MAILTO:info@dimitrihalleycenter.com
END:VEVENT
END:VCALENDAR