BEGIN:VCALENDAR
VERSION:2.0
PRODID:-//Dimitri Halley Center - ECPv6.15.20//NONSGML v1.0//EN
CALSCALE:GREGORIAN
METHOD:PUBLISH
X-ORIGINAL-URL:https://dimitrihalleycenter.com
X-WR-CALDESC:Events for Dimitri Halley Center
REFRESH-INTERVAL;VALUE=DURATION:PT1H
X-Robots-Tag:noindex
X-PUBLISHED-TTL:PT1H
BEGIN:VTIMEZONE
TZID:America/Aruba
BEGIN:STANDARD
TZOFFSETFROM:-0400
TZOFFSETTO:-0400
TZNAME:AST
DTSTART:20250101T000000
END:STANDARD
END:VTIMEZONE
BEGIN:VEVENT
DTSTART;TZID=America/Aruba:20260228T140000
DTEND;TZID=America/Aruba:20260228T160000
DTSTAMP:20260423T131833
CREATED:20260217T183337Z
LAST-MODIFIED:20260217T220740Z
UID:4884-1772287200-1772294400@dimitrihalleycenter.com
SUMMARY:Join New Webinar: The (New) Age of Singularity
DESCRIPTION:Join us February 28th\, 2026!\n \nReservation Confirmed upon Payment – Registration information below\nEarly Bird: 42 USD ends Saturday February 21st\nNormal Price: 50 USD\n\n Every webinar comes from a deeper and higher (energetically/consciousness) perspective up the golden spiral. So now we bring the next one\, which will be very much from the perspective of singularity itself. The hardware of the mind has shifted to a very dangerous setting on one side\, disgrace\, but on the other back to Grace. In a nutshell\, the mind has now shifted to being very quick to the trigger. Guilty before innocent. Technology instead of laws. We will show what is happening in the world in terms of what is now happening\, namely the quantum leap to singularity from a depth psychological level. Classical science of psychology does not take into account these big shifts in the evolution of consciousness from a depth collective (unconscious) level. The mind/world has become a very dangerous place. It has become very hard to survive others and\, foremost\, oneself\, at a personal\, national\, and global level. The next webinar will be down this rabbit hole about what has changed in the mind collectively. Namely\, we are witnessing the lockdown of the mind and outside in irreconcilable opposites and how this new level of split is precipitating us off this edge into a New Age of Singularity. Everything is becoming a war between irreconcilable opposites and differences. Hence wars and rumors of wars all over the globe and especially in the mind. \nIt will become increasingly hard to survive this template without leaping into upside-down singularity\, which will involve a merger with machines (Transhumanism). These are the pangs and birth pains of a rebirth out of this magnetic middle (3D) on both sides of the dome. The whole system on this timeline is causing this mental state and pushing out the baby on both sides. The only way to not get pushed out of the womb into the antichrist timeline is to run to the mountains of the Self. We will in-depth treat how to not get swallowed by this timeline\, where we rebirth into something abominable\, which we see those at the helm in the Epstein files have already transformed into\, and get into the right-side-up singularity. The in-between of these two timelines is almost fully gone. Key notions featured and explained from a collective depth psychological perspective are transhumanism\, The firmament\, Singularity\, Truman Show\, Epstein Files\, and most importantly how to transcend the dome and the transhuman singularity via right-side-up singularity. Also\, in the right-side-up\, a new template of true transhumanism (Self) is available. \n\nREGISTRATION:\n* Existing subscribers can register through our latest newsletter.\nSubscribers\, make sure to keep an eye on your spam/junk box too!\n* Call +297 583 0114\n* WhatsApp: +297 592 4305\n* Email: info@dimitrihalleycenter.com
URL:https://dimitrihalleycenter.com/event/join-new-webinar-the-new-age-of-singularity/
ATTACH;FMTTYPE=image/png:https://dimitrihalleycenter.com/wp-content/uploads/2026/02/260217-6-Webinar-The-New-Age-of-Singularity.png
ORGANIZER;CN="Dimitri Halley%2C psychologist":MAILTO:info@dimitrihalleycenter.com
END:VEVENT
END:VCALENDAR