BEGIN:VCALENDAR
VERSION:2.0
PRODID:-//Dimitri Halley Center - ECPv6.15.20//NONSGML v1.0//EN
CALSCALE:GREGORIAN
METHOD:PUBLISH
X-WR-CALNAME:Dimitri Halley Center
X-ORIGINAL-URL:https://dimitrihalleycenter.com
X-WR-CALDESC:Events for Dimitri Halley Center
REFRESH-INTERVAL;VALUE=DURATION:PT1H
X-Robots-Tag:noindex
X-PUBLISHED-TTL:PT1H
BEGIN:VTIMEZONE
TZID:America/Aruba
BEGIN:STANDARD
TZOFFSETFROM:-0400
TZOFFSETTO:-0400
TZNAME:AST
DTSTART:20210101T000000
END:STANDARD
END:VTIMEZONE
BEGIN:VEVENT
DTSTART;TZID=America/Aruba:20221210T150000
DTEND;TZID=America/Aruba:20221210T170000
DTSTAMP:20260425T141052
CREATED:20221201T170351Z
LAST-MODIFIED:20221201T180650Z
UID:4216-1670684400-1670691600@dimitrihalleycenter.com
SUMMARY:Abusive relationships
DESCRIPTION:Register here below or my other social media network. Click here to send your bullet points & questions in advance and it will be incorporated in this live event. \n\nBe aware you will receive an invoice within 24 hours. If you did not receive anything\, please also check your spam box.\nYour registration is confirmed after payment of the invoice.\nWe will send continuously updates on the process via email and Facebook Webinar Group.
URL:https://dimitrihalleycenter.com/event/abusive-relationships/
ATTACH;FMTTYPE=image/gif:https://dimitrihalleycenter.com/wp-content/uploads/2022/12/221201-website-cover-event.gif
ORGANIZER;CN="Dimitri Halley%2C psychologist":MAILTO:info@dimitrihalleycenter.com
END:VEVENT
END:VCALENDAR